BEGIN:VCALENDAR
VERSION:2.0
PRODID:-//Association des Familles du Centre-Sud - ECPv6.15.15//NONSGML v1.0//EN
CALSCALE:GREGORIAN
METHOD:PUBLISH
X-ORIGINAL-URL:https://maisonfamille.bizzao.com
X-WR-CALDESC:Événements pour Association des Familles du Centre-Sud
REFRESH-INTERVAL;VALUE=DURATION:PT1H
X-Robots-Tag:noindex
X-PUBLISHED-TTL:PT1H
BEGIN:VTIMEZONE
TZID:America/Toronto
BEGIN:DAYLIGHT
TZOFFSETFROM:-0500
TZOFFSETTO:-0400
TZNAME:EDT
DTSTART:20250309T070000
END:DAYLIGHT
BEGIN:STANDARD
TZOFFSETFROM:-0400
TZOFFSETTO:-0500
TZNAME:EST
DTSTART:20251102T060000
END:STANDARD
BEGIN:DAYLIGHT
TZOFFSETFROM:-0500
TZOFFSETTO:-0400
TZNAME:EDT
DTSTART:20260308T070000
END:DAYLIGHT
BEGIN:STANDARD
TZOFFSETFROM:-0400
TZOFFSETTO:-0500
TZNAME:EST
DTSTART:20261101T060000
END:STANDARD
BEGIN:DAYLIGHT
TZOFFSETFROM:-0500
TZOFFSETTO:-0400
TZNAME:EDT
DTSTART:20270314T070000
END:DAYLIGHT
BEGIN:STANDARD
TZOFFSETFROM:-0400
TZOFFSETTO:-0500
TZNAME:EST
DTSTART:20271107T060000
END:STANDARD
END:VTIMEZONE
BEGIN:VEVENT
DTSTART;VALUE=DATE:20260126
DTEND;VALUE=DATE:20260201
DTSTAMP:20260421T082237
CREATED:20260127T201745Z
LAST-MODIFIED:20260127T201745Z
UID:7542-1769385600-1769903999@maisonfamille.bizzao.com
SUMMARY:Programme du 26 au 31 janvier 2025
DESCRIPTION:Bonjour à toutes et à tous\,\nDicton de la semaine : Hivers rigoureux\, foyer chaleureux \nPour bien reprendre le rythme de l’école et démarrer l’année du bon pied\, la Maison des Familles du Centre‑Sud vous a de nouveau préparé une belle programmation pour bouger\, créer\, apprendre et partager. Les enfants profiteront d’activités stimulantes et amusantes\, tandis que les parents trouveront un espace accueillant pour échanger\, se ressourcer et prendre soin d’eux. \n Repas partage : Mexicain\nLe repas partagé de cette semaine est sous le signe du Mexique.\nAu menu Tortillas de poulet avec ses petits accompagnements.\nVenez nombreux pour apprendre à connaître les autres parents. \n Pas d’afro-cardio cette semaine\nIl n’y aura pas d’afro-cardio cette semaine suite à un problème d’horaire de notre animatrice.\nVous pouvez toujours nous rejoindre ce mardi pour du TaïChi ou vendredi pour du Yoga.\n\n Nouveaux formats en phase d’essai\nAfin de renforcer les liens entre parents et enfants\, nous proposerons bientôt de nouvelles activités à vivre ensemble. Ces moments partagés seront l’occasion de se découvrir autrement\, à travers des ateliers créatifs\, ludiques et propices aux échanges du quotidien. \nNous avons également entendu les demandes de plusieurs pré‑ados souhaitant disposer d’un espace rien qu’à eux pour discuter et se détendre pendant que les mamans échangent. Dès les prochains vendredis soir\, nous testerons donc une zone Chill avec collations\, livres\, consoles de jeux vidéo et une petite animation autour de jeux de société. \n Programme de la semaine\nL’Association des Familles Centre‑Sud est ravie de vous inviter à une nouvelle semaine placée sous le signe de la créativité\, de la découverte et de la convivialité. Une foule d’activités attend petits et grands. \n À ne pas manquer \nPour les enfants\n\nAteliers créatifs : peinture\, bricolage et activités ludiques pour stimuler l’imagination.\nJeux en équipes : collaboration\, esprit d’équipe et plaisir garanti.\nAtelier culinaire : cuisiner en s’amusant et découvrir de nouvelles saveurs.\n\nPour les parents\n\nActivités bien‑être : séances pour bouger\, se détendre et prendre soin de soi (les enfants peuvent participer).\nAccompagnement numérique : initiation à l’ordinateur\, à Internet\, aux courriels\, ainsi qu’un soutien pour les démarches administratives ou la recherche d’emploi.\n\nPour tous\n\nEspace détente en continu : un lieu chaleureux pour discuter\, se reposer et profiter d’un moment de calme.\n\n Reprise des activités bien‑être\nLes séances d’Afro‑Cardio\, de Taï‑chi et de Yoga ont repris pour ce début d’année. Nos animateurs vous proposent un programme tout en douceur pour retrouver l’énergie après les fêtes. \n Infos pratiques\n\nToutes nos activités sont ouvertes à toutes et à tous.\nUne adhésion à l’association est nécessaire pour participer. Passez nous voir pour remplir votre formulaire et rejoindre notre belle communauté.
URL:https://maisonfamille.bizzao.com/event/programme-du-26-au-31-janvier-2025/
LOCATION:1489 rue Dufresne\, 1489 Rue Dufresne\, Montréal\, QC\, H2K 3J4\, Canada
CATEGORIES:Activités
ATTACH;FMTTYPE=image/jpeg:https://maisonfamille.bizzao.com/wp-content/uploads/2026/01/Programme-26-31-janvier-2025.jpg
ORGANIZER;CN="Association des familles du Centre-sud":MAILTO:info@associationdesfamillescentresud.com
END:VEVENT
BEGIN:VEVENT
DTSTART;VALUE=DATE:20260119
DTEND;VALUE=DATE:20260125
DTSTAMP:20260421T082237
CREATED:20260123T204513Z
LAST-MODIFIED:20260123T204513Z
UID:7536-1768780800-1769299199@maisonfamille.bizzao.com
SUMMARY:Programme du 19 au 24 janvier 2025
DESCRIPTION:Bonjour à toutes et à tous\,\nCourage l’hiver achève bientôt !\n\nPour accompagner la reprise de l’école et commencer l’année du bon pied\, la Maison des Familles du Centre‑Sud vous propose une série d’activités pour bouger\, créer\, apprendre et partager. Les enfants profiteront d’ateliers stimulants et amusants\, tandis que les parents bénéficieront d’un espace convivial pour échanger\, se ressourcer et prendre soin d’eux. \n Déplacement du Taï‑chi\nRappel de la semaine dernière : Pour des raisons de programmation\, les séances de Taï‑chi sont désormais déplacées du mercredi au mardi. Ces nouveaux horaires resteront en vigueur pour les prochains mois.\n Nouveaux formats en phase d’essai \nDans la continuité de notre mission de rassembler les familles et de favoriser des moments privilégiés entre parents et enfants\, de nouvelles activités à vivre ensemble seront proposées dans les prochaines semaines. Ces temps partagés permettront de se découvrir autrement\, à travers des activités créatives\, amusantes et propices aux échanges du quotidien. \nPar ailleurs\, plusieurs pré‑ados nous ont récemment exprimé leur souhait de disposer d’un espace qui leur soit dédié\, où ils pourraient discuter et se détendre en dehors des activités encadrées\, pendant que les mamans échangent entre elles. Nous testerons donc\, lors des prochains vendredis soir\, une zone Chill comprenant collations\, livres et consoles de jeux vidéo. Une animation sera également proposée avec de petits jeux de société. \n\n Programme de la semaine\nL’Association des Familles Centre‑Sud est heureuse de vous convier à une nouvelle semaine placée sous le signe de la créativité\, de la découverte et de la convivialité. Une variété d’activités attend petits et grands.\n\n À ne pas manquer \nPour les enfants \n\nAteliers créatifs : peinture\, bricolage et activités ludiques pour stimuler l’imagination.\nJeux en équipes : collaboration\, esprit d’équipe et plaisir assuré.\nAtelier culinaire : cuisiner en s’amusant et découvrir de nouvelles saveurs.\nAtelier écologie : apprendre ce que la nature peut nous apporter et comment elle fonctionne.\n\nPour les parents \n\nActivités bien-être : pour faire bouger et entretenir son corps (les enfants sont les bienvenus aussi)\nAccompagnement numérique : initiation à l’ordinateur\, à Internet\, aux courriels\, ainsi qu’un soutien pour les démarches administratives ou la recherche d’emploi.\n\nPour tous \n\nEspace détente en continu : un lieu chaleureux pour discuter\, se reposer et profiter d’un moment de calme.\n\n Reprise des activités bien‑être\nLes séances d’Afro‑Cardio\, de Taï‑chi et de Yoga ont repris ce début d’année. Nos animateurs vous proposent un programme tout en douceur pour bien amorcer l’après‑fêtes. \n Infos pratiques\nToutes nos activités sont ouvertes à toutes et à tous.\nUne adhésion à l’association est toutefois nécessaire pour participer. Passez nous voir pour remplir votre formulaire et rejoindre notre belle communauté. \n\nToute l’équipe d’animation vous souhaite une merveilleuse année 2026 et se réjouit de vous accueillir très bientôt.
URL:https://maisonfamille.bizzao.com/event/programme-du-19-au-24-janvier-2025/
LOCATION:1489 rue Dufresne\, 1489 Rue Dufresne\, Montréal\, QC\, H2K 3J4\, Canada
CATEGORIES:Activités
ATTACH;FMTTYPE=image/jpeg:https://maisonfamille.bizzao.com/wp-content/uploads/2026/01/Programme-19-24-janvier-2025.jpg
ORGANIZER;CN="Association des familles du Centre-sud":MAILTO:info@associationdesfamillescentresud.com
END:VEVENT
BEGIN:VEVENT
DTSTART;VALUE=DATE:20260112
DTEND;VALUE=DATE:20260118
DTSTAMP:20260421T082237
CREATED:20260123T204314Z
LAST-MODIFIED:20260123T204314Z
UID:7533-1768176000-1768694399@maisonfamille.bizzao.com
SUMMARY:Programme du 12 au 17 janvier 2025
DESCRIPTION:Semaine festive au Centre‑Sud — du 12 au 17 janvier 2026\nBonjour à toutes et à tous\, Nous vous souhaitons une excellente année 2026\, remplie de santé\, de joie et de belles réussites pour toutes les familles ! \nPour bien commencer cette nouvelle année et accompagner la reprise de l’école\, la Maison des Familles du Centre‑Sud vous propose une série d’activités pour bouger\, créer\, apprendre et partager. Les enfants profiteront d’ateliers stimulants et amusants\, tandis que les parents bénéficieront d’un espace convivial pour échanger\, se ressourcer et prendre soin d’eux. \n Déplacement du Taï-Chi\nPour des questions de programmation\, les activités de Taï-chi ont été déplacées du mercredi au mardi. Ces horaires resteront tels quels pour les prochains mois. \n Semaine de la Kabylie \nNous profitons du nouvel an Kabyle (région d’Algérie) de ce lundi 12 janvier pour souhaiter à notre communauté une heureuse nouvelle année. Des personnes originaires de cette région vous feront des animations dans la semaine. Nous essaierons ces prochains mois de mettre à l’honneur vos régions respectives afin de les faire connaître. Merci de nous signaler vos moments importants qui pourraient être mis en avant. \n Programme de la semaine\nL’Association des Familles Centre‑Sud est heureuse de vous inviter à une nouvelle semaine placée sous le signe de la créativité\, de la découverte et de la convivialité. Une variété d’activités attend petits et grands. \n À ne pas manquer\nPour les enfants\n\nAteliers créatifs : peinture\, bricolage et activités ludiques pour stimuler l’imagination.\nJeux en équipes : collaboration\, esprit d’équipe et plaisir assuré.\nAtelier culinaire : cuisiner en s’amusant et découvrir de nouvelles saveurs.\n\nPour les parents\n\nAccompagnement numérique : initiation à l’ordinateur\, à Internet\, aux courriels\, ainsi qu’un soutien pour les démarches administratives ou la recherche d’emploi.\n\nPour tous\n\nEspace détente en continu : un lieu chaleureux pour discuter\, se reposer et profiter d’un moment de calme.\n\n Reprise des activités bien‑être\nLes séances d’Afro‑Cardio\, de Taï‑chi et de Yoga ont repris la semaine semaine. Nos animateurs vous ont préparé un programme tout en douceur pour bien amorcer l’après‑fêtes. \n Paniers surprises du temps des fêtes\nIl ne reste plus de panier surprise. Merci à toutes les familles qui sont venues les chercher. Il reste cependant des cadeaux des personnes qui s’étaient inscrites à l’Opération Père Noël de septembre dernier. Si vous n’êtes pas encore venu les chercher\, merci de le faire au plus vite. \n Infos pratiques\n\nToutes nos activités sont ouvertes à toutes et à tous.\nUne adhésion à l’association est toutefois nécessaire pour participer. N’hésitez pas à passer nous voir pour remplir votre formulaire et rejoindre notre belle communauté.\n\nToute l’équipe d’animation vous souhaite une merveilleuse année 2026 et se réjouit de vous accueillir très bientôt.
URL:https://maisonfamille.bizzao.com/event/programme-du-12-au-17-janvier-2025/
LOCATION:1489 rue Dufresne\, 1489 Rue Dufresne\, Montréal\, QC\, H2K 3J4\, Canada
CATEGORIES:Activités
ATTACH;FMTTYPE=image/jpeg:https://maisonfamille.bizzao.com/wp-content/uploads/2026/01/Programme-12-17-janvier-2025.jpg
ORGANIZER;CN="Association des familles du Centre-sud":MAILTO:info@associationdesfamillescentresud.com
END:VEVENT
BEGIN:VEVENT
DTSTART;VALUE=DATE:20260105
DTEND;VALUE=DATE:20260111
DTSTAMP:20260421T082237
CREATED:20260123T203439Z
LAST-MODIFIED:20260123T203944Z
UID:7515-1767571200-1768089599@maisonfamille.bizzao.com
SUMMARY:Programme du 05 au 10 janvier 2025
DESCRIPTION:Semaine festive au Centre‑Sud — du 05 au 10 janvier 2026\nBonjour à toutes et à tous\, Bonne année\, bonne santé et prospérité à toutes les familles pour cette nouvelle année 2026 ! En cette période de nouvelle année et de reprise de l’école\, la Maison des Familles du Centre‑Sud vous propose plusieurs activités pour rester en forme et partir à la découverte de nouvelles expériences ! Les enfants pourront profiter de moments d’apprentissage\, de jeu et de partage\, aussi enrichissants que divertissants\, tandis que les parents disposeront d’un espace accueillant pour échanger\, se mettre en forme et se ressourcer. \n Nouveaux formats en essai \nAfin de poursuivre notre mission de réunir les familles et de leur offrir du temps privilégié ensemble\, nous mettrons en place dans les prochaines semaines de nouvelles activités Parents / Enfants à réaliser ensemble. Ces moments partagés permettront à chacun de se découvrir autrement\, à travers des activités créatives et ludiques\, tout en prenant le temps de se raconter sa journée. \nCes dernières semaines\, nos pré‑ados nous ont exprimé leur envie de disposer d’un espace à eux\, où ils pourraient discuter et s’amuser tranquillement en dehors du cadre des activités\, pendant que les mamans échangent entre elles. Nous allons donc tester\, lors des prochains vendredis soir\, une zone Chill avec quelques collations\, des livres et des consoles de jeux vidéo. L’animation sera assurée en parallèle avec des petits jeux de société. \n Programme de la semaine\nL’Association des Familles Centre‑Sud est ravie de vous convier à une nouvelle semaine placée sous le signe de la découverte\, de la créativité et de la convivialité. Une multitude d’activités vous attend\, pensées pour petits et grands. \n À ne pas manquer\nPour les enfants\n\nAteliers créatifs : peinture\, bricolage et activités ludiques pour stimuler l’imagination.\nJeux en équipes : collaboration\, esprit d’équipe et plaisir garanti.\nAtelier culinaire : apprendre à cuisiner en s’amusant.\n\nPour les parents\n\nAccompagnement numérique : initiation à l’ordinateur\, à Internet\, aux courriels\, ainsi qu’un soutien pour les recherches d’emploi ou les démarches administratives.\n\nPour tous\n\nEspace détente en continu : un lieu chaleureux pour discuter\, se reposer et profiter d’un moment de calme.\n\n Reprise des activités bien‑être !\nLes séances d’Afro‑Cardio\, de Taï‑chi et de Yoga ont repris cette semaine. Nos animateurs sportifs vous ont préparé un programme d’après temps des fêtes. \n Paniers surprises du temps des fêtes\nQuelques paniers alimentaires offerts par notre partenaire Moisson Montréal sont encore disponibles. Les familles qui ne les ont pas encore récupérés sont invitées à passer durant les heures habituelles d’activités. \nInfos pratiques\nToutes nos activités sont ouvertes à toutes et à tous.\nUne adhésion à l’association est cependant nécessaire pour participer : passez nous voir pour remplir votre formulaire et rejoindre notre belle communauté. \n\nToute l’équipe d’animation vous souhaite une très belle nouvelle année et se réjouit de vous accueillir prochainement.
URL:https://maisonfamille.bizzao.com/event/programme-du-05-au-10-janvier-2025/
LOCATION:1489 rue Dufresne\, 1489 Rue Dufresne\, Montréal\, QC\, H2K 3J4\, Canada
CATEGORIES:Activités
ATTACH;FMTTYPE=image/jpeg:https://maisonfamille.bizzao.com/wp-content/uploads/2026/01/Programme-05-10-janvier-2025.jpg
ORGANIZER;CN="Association des familles du Centre-sud":MAILTO:info@associationdesfamillescentresud.com
END:VEVENT
END:VCALENDAR